BEGIN:VCALENDAR
VERSION:2.0
PRODID:-//SICECO, territoire d’énergie Côte-d’Or - ECPv6.15.20//NONSGML v1.0//EN
CALSCALE:GREGORIAN
METHOD:PUBLISH
X-ORIGINAL-URL:https://www.siceco.fr
X-WR-CALDESC:Évènements pour SICECO, territoire d’énergie Côte-d’Or
REFRESH-INTERVAL;VALUE=DURATION:PT1H
X-Robots-Tag:noindex
X-PUBLISHED-TTL:PT1H
BEGIN:VTIMEZONE
TZID:UTC
BEGIN:STANDARD
TZOFFSETFROM:+0000
TZOFFSETTO:+0000
TZNAME:UTC
DTSTART:20210101T000000
END:STANDARD
END:VTIMEZONE
BEGIN:VTIMEZONE
TZID:Europe/Paris
BEGIN:DAYLIGHT
TZOFFSETFROM:+0100
TZOFFSETTO:+0200
TZNAME:CEST
DTSTART:20200329T010000
END:DAYLIGHT
BEGIN:STANDARD
TZOFFSETFROM:+0200
TZOFFSETTO:+0100
TZNAME:CET
DTSTART:20201025T010000
END:STANDARD
BEGIN:DAYLIGHT
TZOFFSETFROM:+0100
TZOFFSETTO:+0200
TZNAME:CEST
DTSTART:20210328T010000
END:DAYLIGHT
BEGIN:STANDARD
TZOFFSETFROM:+0200
TZOFFSETTO:+0100
TZNAME:CET
DTSTART:20211031T010000
END:STANDARD
BEGIN:DAYLIGHT
TZOFFSETFROM:+0100
TZOFFSETTO:+0200
TZNAME:CEST
DTSTART:20220327T010000
END:DAYLIGHT
BEGIN:STANDARD
TZOFFSETFROM:+0200
TZOFFSETTO:+0100
TZNAME:CET
DTSTART:20221030T010000
END:STANDARD
BEGIN:DAYLIGHT
TZOFFSETFROM:+0100
TZOFFSETTO:+0200
TZNAME:CEST
DTSTART:20230326T010000
END:DAYLIGHT
BEGIN:STANDARD
TZOFFSETFROM:+0200
TZOFFSETTO:+0100
TZNAME:CET
DTSTART:20231029T010000
END:STANDARD
BEGIN:DAYLIGHT
TZOFFSETFROM:+0100
TZOFFSETTO:+0200
TZNAME:CEST
DTSTART:20240331T010000
END:DAYLIGHT
BEGIN:STANDARD
TZOFFSETFROM:+0200
TZOFFSETTO:+0100
TZNAME:CET
DTSTART:20241027T010000
END:STANDARD
BEGIN:DAYLIGHT
TZOFFSETFROM:+0100
TZOFFSETTO:+0200
TZNAME:CEST
DTSTART:20250330T010000
END:DAYLIGHT
BEGIN:STANDARD
TZOFFSETFROM:+0200
TZOFFSETTO:+0100
TZNAME:CET
DTSTART:20251026T010000
END:STANDARD
BEGIN:DAYLIGHT
TZOFFSETFROM:+0100
TZOFFSETTO:+0200
TZNAME:CEST
DTSTART:20260329T010000
END:DAYLIGHT
BEGIN:STANDARD
TZOFFSETFROM:+0200
TZOFFSETTO:+0100
TZNAME:CET
DTSTART:20261025T010000
END:STANDARD
END:VTIMEZONE
BEGIN:VEVENT
DTSTART;VALUE=DATE:20251205
DTEND;VALUE=DATE:20251206
DTSTAMP:20260421T150241
CREATED:20221109T151920Z
LAST-MODIFIED:20251117T125902Z
UID:13460-1764892800-1764979199@www.siceco.fr
SUMMARY:Salon des Maires de la Côte-d'Or 2025
DESCRIPTION:
URL:https://www.siceco.fr/evenement/salon-des-maires-de-la-cote-dor-2025-2
LOCATION:Dijon – Parc des Expositions
END:VEVENT
BEGIN:VEVENT
DTSTART;VALUE=DATE:20251204
DTEND;VALUE=DATE:20251205
DTSTAMP:20260421T150241
CREATED:20221109T154307Z
LAST-MODIFIED:20251117T130001Z
UID:13464-1764806400-1764892799@www.siceco.fr
SUMMARY:Salon des Maires de la Côte-d'Or 2025
DESCRIPTION:
URL:https://www.siceco.fr/evenement/salon-des-maires-de-la-cote-dor-2025
LOCATION:Dijon – Parc des Expositions
END:VEVENT
BEGIN:VEVENT
DTSTART;TZID=Europe/Paris:20250912T090000
DTEND;TZID=Europe/Paris:20250912T123000
DTSTAMP:20260421T150241
CREATED:20250630T121651Z
LAST-MODIFIED:20250630T121651Z
UID:16933-1757667600-1757680200@www.siceco.fr
SUMMARY:Assises de l'énergie en Côte-d'Or 2025
DESCRIPTION:Le SICECO\, territoire d’énergie Côte-d’Or organise les Assises de l’énergie en Côte-d’Or 2025\, \nle vendredi 12 septembre\,  \nde 9h00 à 12h30\,  \nau Palais des Congrès de Dijon.
URL:https://www.siceco.fr/evenement/assises-de-lenergie-en-cote-dor-2025
LOCATION:Palais des congrès de Dijon\, 3 boulevard de champagne\, Dijon\, 21000
END:VEVENT
BEGIN:VEVENT
DTSTART;TZID=Europe/Paris:20250603T093000
DTEND;TZID=Europe/Paris:20250603T173000
DTSTAMP:20260421T150241
CREATED:20250602T123332Z
LAST-MODIFIED:20250602T123332Z
UID:16821-1748943000-1748971800@www.siceco.fr
SUMMARY:ANCTour 2025
DESCRIPTION:Le SICECO\, territoire d’énergie Côte-d’Or tiendra un stand aux côtés  de l’Alliance des Syndicats d’énergies de Bourgogne-Franche-Comté\, lors de l’ANCTour 2025\, le 3 juin au Parc des Expositions et Congrès de Dijon.  \nCette journée est dédiée aux élus\, aux porteurs de projets et aux acteurs du développement territorial. \nL’événement s’articulera autour de six villages thématiques\, chacun dédié à un pilier de l’action territoriale : \n\nCommerces\nCitoyenneté et solidarité\nCadre de vie et aménagement du territoire \nDéveloppement économique\nAccès au numérique et aux services publics \nAppui aux transitions\n\nDécouvrir le programme : https://www.anctour.fr/programme \nS’inscrire
URL:https://www.siceco.fr/evenement/anctour-2025
LOCATION:Dijon – Parc des Expositions
END:VEVENT
BEGIN:VEVENT
DTSTART;TZID=Europe/Paris:20250403T133000
DTEND;TZID=Europe/Paris:20250403T170000
DTSTAMP:20260421T150241
CREATED:20250319T153040Z
LAST-MODIFIED:20250319T153040Z
UID:16559-1743687000-1743699600@www.siceco.fr
SUMMARY:Quinzaine du réseau Élus pour agir - visite technique à Bligny-sur-Ouche
DESCRIPTION:Dans le cadre de la quinzaine du réseau des élus pour agir\, l’ADEME Bourgogne-Franche-Comté a le plaisir de vous inviter à une visite technique d’une collectivité engagée dans la transition écologique\, la communauté de communes de Pouilly-en-Auxois / Bligny-sur-Ouche : \nle jeudi 3 avril\, de 14h à 17h à Bligny-sur-Ouche \nCette visite est organisée et accueillie par la communauté de communes de Pouilly-en-Auxois / Bligny-sur-Ouche. \n\nAccueil dès 13h30\n14h-14h30 :\n\nOuverture du temps par Monsieur Yves Courtot\, Président de la communauté de communes et par Madame Adrienne Simon-Krzakala\, Directrice régionale de l’ADEME.\nPrésentation de la démarche globale de transition écologique dans laquelle est historiquement engagée la communauté de communes.\n\n\n14h40-15h30 : Visite de 2 projets opérationnels : la chaufferie bois\, ainsi que la maison de santé Bâtiment à Énergie POSitive\n15h30-16h : Présentation de l’offre d’accompagnement en région par le SICECO\, territoire d’énergie Côte-d’Or et l’ADEME\n16h30 : Clôture par Monsieur Paul Mourier\, préfet de Région Bourgogne-Franche-Comté\, préfet de Côte-d’Or\n17h : verre de l’amitié\n\nS’inscrire à l’événement
URL:https://www.siceco.fr/evenement/quinzaine-du-reseau-elus-pour-agir-visite-technique-a-bligny-sur-ouche
END:VEVENT
BEGIN:VEVENT
DTSTART;TZID=Europe/Paris:20241213T113000
DTEND;TZID=Europe/Paris:20241213T123000
DTSTAMP:20260421T150241
CREATED:20241126T100133Z
LAST-MODIFIED:20241126T100133Z
UID:16153-1734089400-1734093000@www.siceco.fr
SUMMARY:Cérémonie de remise des chèques CEE
DESCRIPTION:
URL:https://www.siceco.fr/evenement/ceremonie-de-remise-des-cheques-cee
LOCATION:Dijon – Parc des Expositions
END:VEVENT
BEGIN:VEVENT
DTSTART;TZID=Europe/Paris:20240927T080000
DTEND;TZID=Europe/Paris:20240929T170000
DTSTAMP:20260421T150241
CREATED:20240909T140608Z
LAST-MODIFIED:20240909T140608Z
UID:15874-1727424000-1727629200@www.siceco.fr
SUMMARY:Congrès des Maires ruraux de France 2024
DESCRIPTION:Saint-Julien et Arceau \nPlus d’informations en cliquant ici
URL:https://www.siceco.fr/evenement/congres-des-maires-ruraux-de-france-2024
END:VEVENT
BEGIN:VEVENT
DTSTART;TZID=Europe/Paris:20240924T170000
DTEND;TZID=Europe/Paris:20240924T183000
DTSTAMP:20260421T150241
CREATED:20240909T132506Z
LAST-MODIFIED:20240909T132519Z
UID:15870-1727197200-1727202600@www.siceco.fr
SUMMARY:Rencontres Club Energie
DESCRIPTION:Le SICECO\, territoire d’énergie Côte-d’Or\, organise une 4ème rencontre « Club Énergie » à destination des adhérents suivis par un Conseiller en Énergie Partagé ou un Économe de Flux\, le : \nMARDI 24 SEPTEMBRE 2024\, À 17H00\nà Villaines-en-Duesmois\, salle des fêtes \nLa réunion aura pour thématique le remplacement des chaudières fioul ou propane par des chaudières bois ou par des pompes à chaleur air/eau. Le déroulé est le suivant : présentation de la thématique par le SICECO suivie de témoignages d’élus et d’un jeu de questions/réponses. Un verre de l’amitié clôturera la rencontre. \nCOMMENT S’INSCRIRE ?\nChacun peut s’inscrire à la réunion en remplissant le formulaire en ligne disponible ici.
URL:https://www.siceco.fr/evenement/rencontres-club-energie
LOCATION:Villaines-en-Duesmois\, salles des fêtes\, Villaines-en-Duesmois
END:VEVENT
BEGIN:VEVENT
DTSTART;TZID=Europe/Paris:20240903T100000
DTEND;TZID=Europe/Paris:20240903T120000
DTSTAMP:20260421T150241
CREATED:20240711T100004Z
LAST-MODIFIED:20240711T100004Z
UID:15743-1725357600-1725364800@www.siceco.fr
SUMMARY:Webinaire Ademe - Solarisation du patrimoine public et autoconsommation
DESCRIPTION:Ce webinaire organisé par l’Ademe aidera les collectivités de Bourgogne-Franche-Comté à structurer leur politique de solarisation et à comprendre l’autoconsommation photovoltaïque. \nPlus d’informations en cliquant ici
URL:https://www.siceco.fr/evenement/webinaire-ademe-solarisation-du-patrimoine-public-et-autoconsommation
END:VEVENT
BEGIN:VEVENT
DTSTART;TZID=UTC:20231219T170000
DTEND;TZID=UTC:20231219T193000
DTSTAMP:20260421T150241
CREATED:20221109T151806Z
LAST-MODIFIED:20231207T085557Z
UID:13458-1703005200-1703014200@www.siceco.fr
SUMMARY:Assemblée générale
DESCRIPTION:
URL:https://www.siceco.fr/evenement/assemblee-generale-6
LOCATION:Sombernon\, Espace de la Brenne\, Sombernon
END:VEVENT
BEGIN:VEVENT
DTSTART;TZID=Europe/Paris:20231012T100000
DTEND;TZID=Europe/Paris:20231012T120000
DTSTAMP:20260421T150241
CREATED:20231010T090613Z
LAST-MODIFIED:20231010T090613Z
UID:15071-1697104800-1697112000@www.siceco.fr
SUMMARY:Webinaire de présentation de l'évolution du groupement d'achat d'énergies
DESCRIPTION:  \nhttps://us02web.zoom.us/j/83269856483?pwd=MXliR2g0TzZhMzBPNHBEWmZVUmRidz09 \nID de réunion : 832 6985 6483\nCode secret : 95485egZZ3
URL:https://www.siceco.fr/evenement/webinaire-de-presentation-de-levolution-du-groupement-dachat-denergies
END:VEVENT
BEGIN:VEVENT
DTSTART;TZID=UTC:20230204T140000
DTEND;TZID=UTC:20230204T170000
DTSTAMP:20260421T150241
CREATED:20230120T094211Z
LAST-MODIFIED:20230120T094211Z
UID:13675-1675519200-1675530000@www.siceco.fr
SUMMARY:Conférence négaWatt - Vers une société plus durable et équitable
DESCRIPTION:Les associations Bourgogne Énergies Renouvelables et négaWatt organisent une conférence de 14h00 à 17h00\, le samedi 04 février 2023 à l’espace Chambertin (rue de l’Église 21220 GEVREY CHAMBERTIN) suivi d’un pot convivial. \nOuverte à tous\, cette conférence sera animée par Daniel MUGNIER ambassadeur négaWatt et Docteur ingénieur issu d’un cursus des Mines. Cet événement permettra aux participants d’échanger sur différents sujets tels que : \n\nla neutralité carbone en 2050\,\nle mix énergétique\, les économies d’énergies\nle développement des énergies renouvelables \,\nla réduction de toutes émissions de gaz à effet de serre.\n\nPour tout renseignement complémentaire\, n’hésitez pas à nous contacter par téléphone au 03.80.66.54.57 ou via le formulaire contact sur notre site www.ber.asso.fr
URL:https://www.siceco.fr/evenement/conference-negawatt-vers-une-societe-plus-durable-et-equitable
END:VEVENT
BEGIN:VEVENT
DTSTART;TZID=UTC:20221125T170000
DTEND;TZID=UTC:20221125T190000
DTSTAMP:20260421T150241
CREATED:20221109T151709Z
LAST-MODIFIED:20221109T151709Z
UID:13456-1669395600-1669402800@www.siceco.fr
SUMMARY:Assemblée générale
DESCRIPTION:
URL:https://www.siceco.fr/evenement/assemblee-generale-5
LOCATION:Fleurey-sur-Ouche – Salle des fêtes
END:VEVENT
BEGIN:VEVENT
DTSTART;TZID=Europe/Paris:20221021T180000
DTEND;TZID=Europe/Paris:20221021T200000
DTSTAMP:20260421T150241
CREATED:20210806T130347Z
LAST-MODIFIED:20221014T143646Z
UID:5171-1666375200-1666382400@www.siceco.fr
SUMMARY:Réunion de la CLE 3 – CLE de l’Abbaye
DESCRIPTION:
URL:https://www.siceco.fr/evenement/reunion-de-la-cle-3-cle-de-labbaye-4
LOCATION:Savouges – salle communale
END:VEVENT
BEGIN:VEVENT
DTSTART;TZID=UTC:20220624T173000
DTEND;TZID=UTC:20220624T193000
DTSTAMP:20260421T150241
CREATED:20220516T094007Z
LAST-MODIFIED:20220524T141936Z
UID:13134-1656091800-1656099000@www.siceco.fr
SUMMARY:Assemblée générale du Comité syndical
DESCRIPTION:
URL:https://www.siceco.fr/evenement/assemblee-generale-du-comite-syndical-6
LOCATION:Sombernon\, Espace de la Brenne\, Sombernon
END:VEVENT
BEGIN:VEVENT
DTSTART;TZID=Europe/Paris:20220325T170000
DTEND;TZID=Europe/Paris:20220325T190000
DTSTAMP:20260421T150241
CREATED:20220214T155223Z
LAST-MODIFIED:20220214T155223Z
UID:12225-1648227600-1648234800@www.siceco.fr
SUMMARY:Assemblée générale du Comité syndical
DESCRIPTION:
URL:https://www.siceco.fr/evenement/assemblee-generale-du-comite-syndical-5
LOCATION:Pouilly-en-Auxois – Espace Jean-Claude Patriarche\, Espace Jean-Claude Patriarche\, pouilly en auxois\, 21320\, France
END:VEVENT
BEGIN:VEVENT
DTSTART;TZID=Europe/Paris:20211217T170000
DTEND;TZID=Europe/Paris:20211217T193000
DTSTAMP:20260421T150241
CREATED:20210806T125119Z
LAST-MODIFIED:20211123T094038Z
UID:5155-1639760400-1639769400@www.siceco.fr
SUMMARY:Assemblée générale du comité syndical
DESCRIPTION:
URL:https://www.siceco.fr/evenement/assemblee-generale-du-comite-syndical-4
LOCATION:Salle des fêtes de Mâlain\, rue de Sercey\, MALAIN\, 21410
END:VEVENT
BEGIN:VEVENT
DTSTART;TZID=Europe/Paris:20211126T170000
DTEND;TZID=Europe/Paris:20211126T193000
DTSTAMP:20260421T150241
CREATED:20210806T125046Z
LAST-MODIFIED:20211103T144338Z
UID:5153-1637946000-1637955000@www.siceco.fr
SUMMARY:Assemblée générale du comité syndical
DESCRIPTION:
URL:https://www.siceco.fr/evenement/assemblee-generale-du-comite-syndical-3
LOCATION:Sombernon\, Espace de la Brenne\, Sombernon
END:VEVENT
BEGIN:VEVENT
DTSTART;TZID=Europe/Paris:20211029T170000
DTEND;TZID=Europe/Paris:20211029T193000
DTSTAMP:20260421T150241
CREATED:20210806T124947Z
LAST-MODIFIED:20211029T092455Z
UID:5151-1635526800-1635535800@www.siceco.fr
SUMMARY:Assemblée générale du comité syndical
DESCRIPTION:Sombernon – Espace de la Brenne
URL:https://www.siceco.fr/evenement/assemblee-generale-du-comite-syndical-2
END:VEVENT
BEGIN:VEVENT
DTSTART;TZID=Europe/Paris:20211025T103000
DTEND;TZID=Europe/Paris:20211025T113000
DTSTAMP:20260421T150241
CREATED:20211018T130205Z
LAST-MODIFIED:20211018T130205Z
UID:5296-1635157800-1635161400@www.siceco.fr
SUMMARY:Webinaire - Présentation du décret « Eco Energie Tertiaire » et du service « Suivi et Management de l’Energie (SME) » du SICECO
DESCRIPTION:En visioconférence\, uniquement pour les collectivités concernées
URL:https://www.siceco.fr/evenement/webinaire-presentation-du-decret-eco-energie-tertiaire-et-du-service-suivi-et-management-de-lenergie-sme-du-siceco-2
END:VEVENT
BEGIN:VEVENT
DTSTART;TZID=Europe/Paris:20211021T173000
DTEND;TZID=Europe/Paris:20211021T183000
DTSTAMP:20260421T150241
CREATED:20211018T130105Z
LAST-MODIFIED:20211018T130105Z
UID:5294-1634837400-1634841000@www.siceco.fr
SUMMARY:Webinaire - Présentation du décret « Eco Energie Tertiaire » et du service « Suivi et Management de l’Energie (SME) » du SICECO
DESCRIPTION:En visioconférence\, uniquement pour les collectivités concernées
URL:https://www.siceco.fr/evenement/webinaire-presentation-du-decret-eco-energie-tertiaire-et-du-service-suivi-et-management-de-lenergie-sme-du-siceco
END:VEVENT
BEGIN:VEVENT
DTSTART;TZID=Europe/Paris:20211021T100000
DTEND;TZID=Europe/Paris:20211021T120000
DTSTAMP:20260421T150241
CREATED:20211007T092629Z
LAST-MODIFIED:20211007T092629Z
UID:5290-1634810400-1634817600@www.siceco.fr
SUMMARY:Webinaire - « Groupement régional d’achat d’énergies\, comment confirmer son engagement ? »
DESCRIPTION:Dans le cadre de son groupement d’achat d’énergies\, le SICECO\, territoire d’énergie Côte-d’Or\, organise un webinaire sur la procédure de confirmation d’engagement pour le futur marché d’électricité à partir du 01/01/2023. \nSe connecter au webinaire en cliquant ici
URL:https://www.siceco.fr/evenement/webinaire-groupement-regional-dachat-denergies-comment-confirmer-son-engagement
END:VEVENT
BEGIN:VEVENT
DTSTART;TZID=Europe/Paris:20210706T173000
DTEND;TZID=Europe/Paris:20210706T183000
DTSTAMP:20260421T150241
CREATED:20210630T133323Z
LAST-MODIFIED:20210705T135004Z
UID:5006-1625592600-1625596200@www.siceco.fr
SUMMARY:21 minutes pour comprendre la SEML Côte-d'Or Énergies
DESCRIPTION:Se connecter à la formation en cliquant ici
URL:https://www.siceco.fr/evenement/21-minutes-pour-comprendre-la-seml-cote-dor-energies
END:VEVENT
BEGIN:VEVENT
DTSTART;TZID=Europe/Paris:20210702T170000
DTEND;TZID=Europe/Paris:20210702T190000
DTSTAMP:20260421T150241
CREATED:20210617T132824Z
LAST-MODIFIED:20210617T132824Z
UID:4984-1625245200-1625252400@www.siceco.fr
SUMMARY:Assemblée générale du comité syndical
DESCRIPTION:
URL:https://www.siceco.fr/evenement/assemblee-generale-du-comite-syndical
END:VEVENT
BEGIN:VEVENT
DTSTART;TZID=Europe/Paris:20210629T173000
DTEND;TZID=Europe/Paris:20210629T183000
DTSTAMP:20260421T150241
CREATED:20210625T090926Z
LAST-MODIFIED:20210625T090926Z
UID:4993-1624987800-1624991400@www.siceco.fr
SUMMARY:21 minutes pour comprendre les énergies renouvelables
DESCRIPTION:Se connecter à la formation en cliquant ici
URL:https://www.siceco.fr/evenement/21-minutes-pour-comprendre-les-energies-renouvelables
END:VEVENT
BEGIN:VEVENT
DTSTART;TZID=Europe/Paris:20210622T173000
DTEND;TZID=Europe/Paris:20210622T183000
DTSTAMP:20260421T150241
CREATED:20210617T132607Z
LAST-MODIFIED:20210617T132607Z
UID:4982-1624383000-1624386600@www.siceco.fr
SUMMARY:21 minutes pour comprendre le groupement d'achat d'énergies
DESCRIPTION:Se connecter à la formation en cliquant ici
URL:https://www.siceco.fr/evenement/21-minutes-pour-comprendre-le-groupement-dachat-denergies
END:VEVENT
BEGIN:VEVENT
DTSTART;TZID=Europe/Paris:20210615T173000
DTEND;TZID=Europe/Paris:20210615T183000
DTSTAMP:20260421T150241
CREATED:20210610T131526Z
LAST-MODIFIED:20210610T131526Z
UID:4942-1623778200-1623781800@www.siceco.fr
SUMMARY:21 minutes pour comprendre le rôle du Conseiller en Énergie Partagé (CEP)
DESCRIPTION:Se connecter à la formation en cliquant ici
URL:https://www.siceco.fr/evenement/21-minutes-pour-comprendre-le-role-du-conseiller-en-energie-partage-cep
END:VEVENT
BEGIN:VEVENT
DTSTART;TZID=Europe/Paris:20210601T173000
DTEND;TZID=Europe/Paris:20210601T183000
DTSTAMP:20260421T150241
CREATED:20210531T115232Z
LAST-MODIFIED:20210531T115232Z
UID:4900-1622568600-1622572200@www.siceco.fr
SUMMARY:Formation : 21 minutes pour comprendre comment éclairer autrement
DESCRIPTION:Se connecter à la formation en cliquant ici
URL:https://www.siceco.fr/evenement/formation-21-minutes-pour-comprendre-comment-eclairer-autrement
END:VEVENT
BEGIN:VEVENT
DTSTART;TZID=Europe/Paris:20210525T173000
DTEND;TZID=Europe/Paris:20210525T193000
DTSTAMP:20260421T150241
CREATED:20210519T074825Z
LAST-MODIFIED:20210519T074858Z
UID:4891-1621963800-1621971000@www.siceco.fr
SUMMARY:Formation : 21 minutes pour comprendre l'éclairage public
DESCRIPTION:En visioconférence. Se connecter à la formation en cliquant ici
URL:https://www.siceco.fr/evenement/formation-21-minutes-pour-comprendre-leclairage-public
END:VEVENT
BEGIN:VEVENT
DTSTART;TZID=Europe/Paris:20210427T173000
DTEND;TZID=Europe/Paris:20210427T190000
DTSTAMP:20260421T150241
CREATED:20210323T123918Z
LAST-MODIFIED:20210419T132625Z
UID:4561-1619544600-1619550000@www.siceco.fr
SUMMARY:Réunion de la CLE 8 – Auxois Nord
DESCRIPTION:Se connecter à la réunion en cliquant ici
URL:https://www.siceco.fr/evenement/reunion-de-la-cle-8-auxois-nord-3
END:VEVENT
END:VCALENDAR